BEGIN:VCALENDAR
PRODID:-//eluceo/ical//2.0/EN
VERSION:2.0
CALSCALE:GREGORIAN
BEGIN:VEVENT
UID:hey.bayern.543049.6427151
DTSTAMP:20260422T145142Z
SUMMARY:Meerjungfrauen schnuppern
DTSTART;TZID=Europe/Berlin:20260622T140000
DTEND;TZID=Europe/Berlin:20260622T235959
LOCATION:Sebersdorf 300\, 8271 Bad Waltersdorf\, Österreich
URL;VALUE=URI:https://hey-schweiz.com/events/543049
END:VEVENT
END:VCALENDAR
