BEGIN:VCALENDAR
PRODID:-//eluceo/ical//2.0/EN
VERSION:2.0
CALSCALE:GREGORIAN
BEGIN:VEVENT
UID:hey.bayern.545007.6549629
DTSTAMP:20260422T212507Z
SUMMARY:big.band.festival – vocal.night
DTSTART;TZID=Europe/Berlin:20260717T194500
DTEND;TZID=Europe/Berlin:20260717T235959
LOCATION:Hauptplatz 10\, 8490 Bad Radkersburg\, Österreich
GEO:46.687291;15.987241
X-APPLE-STRUCTURED-LOCATION;VALUE=URI;X-ADDRESS=Hauptplatz 10\, 8490 Bad Ra
 dkersburg\, Österreich;X-APPLE-RADIUS=49;X-TITLE=:geo:46.687291,15.987241
URL;VALUE=URI:https://hey-schweiz.com/events/545007
END:VEVENT
END:VCALENDAR
