BEGIN:VCALENDAR
PRODID:-//eluceo/ical//2.0/EN
VERSION:2.0
CALSCALE:GREGORIAN
BEGIN:VEVENT
UID:hey.bayern.549524.6549091
DTSTAMP:20260421T180800Z
SUMMARY:NOCKBIKE-MTB- Trophy Feld am See-Bad Kleinkirchheim
DTSTART;TZID=Europe/Berlin:20260606T080000
DTEND;TZID=Europe/Berlin:20260607T080000
LOCATION:Ederweg 22\, 9544 Feld am See\, Österreich
GEO:46.710089;13.819084
X-APPLE-STRUCTURED-LOCATION;VALUE=URI;X-ADDRESS=Ederweg 22\, 9544 Feld am S
 ee\, Österreich;X-APPLE-RADIUS=49;X-TITLE=:geo:46.710089,13.819084
URL;VALUE=URI:https://hey-schweiz.com/events/549524
END:VEVENT
END:VCALENDAR
