BEGIN:VCALENDAR
PRODID:-//eluceo/ical//2.0/EN
VERSION:2.0
CALSCALE:GREGORIAN
BEGIN:VEVENT
UID:hey.bayern.552634.4942946
DTSTAMP:20260422T093129Z
SUMMARY:Mondsüchtig 3
DTSTART;TZID=Europe/Berlin:20261116T201500
DTEND;TZID=Europe/Berlin:20261117T201500
LOCATION:Hauptplatz 8\, 9873 Döbriach\, Österreich
URL;VALUE=URI:https://hey-schweiz.com/events/552634
END:VEVENT
END:VCALENDAR
