BEGIN:VCALENDAR
PRODID:-//eluceo/ical//2.0/EN
VERSION:2.0
CALSCALE:GREGORIAN
BEGIN:VEVENT
UID:hey.bayern.577246.6554254
DTSTAMP:20260423T153244Z
SUMMARY:Flohmarkt in Bad Hall
DTSTART;TZID=Europe/Berlin:20260517T060000
DTEND;TZID=Europe/Berlin:20260517T130000
LOCATION:Bahnhofstraße 12\, 4540 Bad Hall\, Österreich
GEO:48.037334;14.209536
X-APPLE-STRUCTURED-LOCATION;VALUE=URI;X-ADDRESS=Bahnhofstraße 12\, 4540 Ba
 d Hall\, Österreich;X-APPLE-RADIUS=49;X-TITLE=:geo:48.037334,14.209536
URL;VALUE=URI:https://hey-schweiz.com/events/577246
END:VEVENT
END:VCALENDAR
