BEGIN:VCALENDAR
PRODID:-//eluceo/ical//2.0/EN
VERSION:2.0
CALSCALE:GREGORIAN
BEGIN:VEVENT
UID:hey.bayern.579713.6556726
DTSTAMP:20260423T063041Z
SUMMARY:Maibaumaufstellen
DTSTART;TZID=Europe/Berlin:20260430T170000
DTEND;TZID=Europe/Berlin:20260430T235959
LOCATION:8940 Weißenbach bei Liezen\, Österreich
GEO:47.571288;14.202918
X-APPLE-STRUCTURED-LOCATION;VALUE=URI;X-ADDRESS=8940 Weißenbach bei Liezen
 \, Österreich;X-APPLE-RADIUS=49;X-TITLE=:geo:47.571288,14.202918
URL;VALUE=URI:https://hey-schweiz.com/events/579713
END:VEVENT
END:VCALENDAR
