BEGIN:VCALENDAR
PRODID:-//eluceo/ical//2.0/EN
VERSION:2.0
CALSCALE:GREGORIAN
BEGIN:VEVENT
UID:hey.bayern.580199.6557122
DTSTAMP:20260423T063012Z
SUMMARY:Zur Ruhe kommen & Gesundheit stärken – Waldbaden & Kräuterwerks
 tatt
DTSTART;TZID=Europe/Berlin:20260917T100000
DTEND;TZID=Europe/Berlin:20260917T120000
LOCATION:Guggenbichlweg 11\, 5710 Kaprun\, Österreich
GEO:47.268216;12.767430
X-APPLE-STRUCTURED-LOCATION;VALUE=URI;X-ADDRESS=Guggenbichlweg 11\, 5710 Ka
 prun\, Österreich;X-APPLE-RADIUS=49;X-TITLE=:geo:47.268216,12.767430
URL;VALUE=URI:https://hey-schweiz.com/events/580199
END:VEVENT
END:VCALENDAR
