BEGIN:VCALENDAR
PRODID:-//eluceo/ical//2.0/EN
VERSION:2.0
CALSCALE:GREGORIAN
BEGIN:VEVENT
UID:hey.bayern.582325.6556292
DTSTAMP:20260423T044847Z
SUMMARY:Feldgottesdienst mit musikalischer Begleitung
DTSTART;TZID=Europe/Berlin:20260517T130000
DTEND;TZID=Europe/Berlin:20260517T134500
LOCATION:Kurpark Velden\, 9220 Velden am Wörthersee\, Österreich
URL;VALUE=URI:https://hey-schweiz.com/events/582325
END:VEVENT
END:VCALENDAR
