BEGIN:VCALENDAR
PRODID:-//eluceo/ical//2.0/EN
VERSION:2.0
CALSCALE:GREGORIAN
BEGIN:VEVENT
UID:hey.bayern.582327.6556332
DTSTAMP:20260423T192443Z
SUMMARY:Frühschoppen mit den Jungfidelen @ Bubbles at the Lake Street Fest
 ival
DTSTART;TZID=Europe/Berlin:20260517T134500
DTEND;TZID=Europe/Berlin:20260517T144500
LOCATION:Kurpark Velden\, 9220 Velden am Wörthersee\, Österreich
GEO:46.613553;14.042307
X-APPLE-STRUCTURED-LOCATION;VALUE=URI;X-ADDRESS=Kurpark Velden\, 9220 Velde
 n am Wörthersee\, Österreich;X-APPLE-RADIUS=49;X-TITLE=:geo:46.613553,14
 .042307
URL;VALUE=URI:https://hey-schweiz.com/events/582327
END:VEVENT
END:VCALENDAR
