BEGIN:VCALENDAR
PRODID:-//eluceo/ical//2.0/EN
VERSION:2.0
CALSCALE:GREGORIAN
BEGIN:VEVENT
UID:hey.bayern.587746.6554595
DTSTAMP:20260422T003728Z
SUMMARY:Kleidertauschparty
DTSTART;TZID=Europe/Berlin:20260509T100000
DTEND;TZID=Europe/Berlin:20260509T170000
LOCATION:Hauptstraße 12\, 4866 Unterach am Attersee\, Österreich
GEO:47.804306;13.487649
X-APPLE-STRUCTURED-LOCATION;VALUE=URI;X-ADDRESS=Hauptstraße 12\, 4866 Unte
 rach am Attersee\, Österreich;X-APPLE-RADIUS=49;X-TITLE=:geo:47.804306,13
 .487649
URL;VALUE=URI:https://hey-schweiz.com/events/587746
END:VEVENT
END:VCALENDAR
