BEGIN:VCALENDAR
PRODID:-//eluceo/ical//2.0/EN
VERSION:2.0
CALSCALE:GREGORIAN
BEGIN:VEVENT
UID:hey.bayern.587784.6556925
DTSTAMP:20260423T105230Z
SUMMARY:Silvester Dinner im Slow Food Restaurant mo.wi
DTSTART;TZID=Europe/Berlin:20261231T180000
DTEND;TZID=Europe/Berlin:20270101T180000
LOCATION:Hauptstraße 48\, 9871 Seeboden\, Österreich
GEO:46.817208;13.513181
X-APPLE-STRUCTURED-LOCATION;VALUE=URI;X-ADDRESS=Hauptstraße 48\, 9871 Seeb
 oden\, Österreich;X-APPLE-RADIUS=49;X-TITLE=:geo:46.817208,13.513181
URL;VALUE=URI:https://hey-schweiz.com/events/587784
END:VEVENT
END:VCALENDAR
