BEGIN:VCALENDAR
PRODID:-//eluceo/ical//2.0/EN
VERSION:2.0
CALSCALE:GREGORIAN
BEGIN:VEVENT
UID:hey.bayern.597925.6557022
DTSTAMP:20260423T135718Z
SUMMARY:Vernissage: "Farbgebung"
DTSTART;TZID=Europe/Berlin:20260424T180000
DTEND;TZID=Europe/Berlin:20260424T235959
LOCATION:Stubenberg 78\, 8223 Stubenberg am See\, Österreich
GEO:47.244026;15.800023
X-APPLE-STRUCTURED-LOCATION;VALUE=URI;X-ADDRESS=Stubenberg 78\, 8223 Stuben
 berg am See\, Österreich;X-APPLE-RADIUS=49;X-TITLE=:geo:47.244026,15.8000
 23
URL;VALUE=URI:https://hey-schweiz.com/events/597925
END:VEVENT
END:VCALENDAR
