BEGIN:VCALENDAR
PRODID:-//eluceo/ical//2.0/EN
VERSION:2.0
CALSCALE:GREGORIAN
BEGIN:VEVENT
UID:hey.bayern.618141.6553675
DTSTAMP:20260422T022113Z
SUMMARY:Die Räuber der Herzen
DTSTART;TZID=Europe/Berlin:20260520T200000
DTEND;TZID=Europe/Berlin:20260520T235900
LOCATION:Promenade 39\, 4020 Linz\, Österreich
GEO:48.303880;14.283365
X-APPLE-STRUCTURED-LOCATION;VALUE=URI;X-ADDRESS=Promenade 39\, 4020 Linz\, 
 Österreich;X-APPLE-RADIUS=49;X-TITLE=:geo:48.303880,14.283365
URL;VALUE=URI:https://hey-schweiz.com/events/618141
END:VEVENT
END:VCALENDAR
