BEGIN:VCALENDAR
PRODID:-//eluceo/ical//2.0/EN
VERSION:2.0
CALSCALE:GREGORIAN
BEGIN:VEVENT
UID:hey.bayern.620658.6554182
DTSTAMP:20260422T003622Z
SUMMARY:Babystammtisch
DTSTART;TZID=Europe/Berlin:20260511T090000
DTEND;TZID=Europe/Berlin:20260511T120000
LOCATION:Hauptstraße 20\, 4866 Unterach am Attersee\, Österreich
GEO:47.804252;13.486755
X-APPLE-STRUCTURED-LOCATION;VALUE=URI;X-ADDRESS=Hauptstraße 20\, 4866 Unte
 rach am Attersee\, Österreich;X-APPLE-RADIUS=49;X-TITLE=:geo:47.804252,13
 .486755
URL;VALUE=URI:https://hey-schweiz.com/events/620658
END:VEVENT
END:VCALENDAR
