BEGIN:VCALENDAR
PRODID:-//eluceo/ical//2.0/EN
VERSION:2.0
CALSCALE:GREGORIAN
BEGIN:VEVENT
UID:hey.bayern.639201.6547328
DTSTAMP:20260420T143650Z
SUMMARY:Meditative Naturwanderung im Winter - Aufbrechen\, innehalten\, sp
 üren
DTSTART;TZID=Europe/Berlin:20260422T100000
DTEND;TZID=Europe/Berlin:20260422T140000
LOCATION:Am Anger 15\, 87538 Fischen i. Allgäu
GEO:47.457162;10.270685
X-APPLE-STRUCTURED-LOCATION;VALUE=URI;X-ADDRESS=Am Anger 15\, 87538 Fischen
  i. Allgäu;X-APPLE-RADIUS=49;X-TITLE=:geo:47.457162,10.270685
URL;VALUE=URI:https://hey-schweiz.com/events/639201
END:VEVENT
END:VCALENDAR
