BEGIN:VCALENDAR
PRODID:-//eluceo/ical//2.0/EN
VERSION:2.0
CALSCALE:GREGORIAN
BEGIN:VEVENT
UID:hey.bayern.640866.5989796
DTSTAMP:20260423T072337Z
SUMMARY:Dienstagsfrühstück: Interessanter Austausch bei Kaffee und Zopf
DTSTART;TZID=Europe/Berlin:20260426T093000
DTEND;TZID=Europe/Berlin:20260427T093000
LOCATION:Clemens-Holzmeister-Gasse 2\, 6900 Bregenz
GEO:47.495520;9.728110
X-APPLE-STRUCTURED-LOCATION;VALUE=URI;X-ADDRESS=Clemens-Holzmeister-Gasse 2
 \, 6900 Bregenz;X-APPLE-RADIUS=49;X-TITLE=:geo:47.495520,9.728110
URL;VALUE=URI:https://hey-schweiz.com/events/640866
END:VEVENT
END:VCALENDAR
