BEGIN:VCALENDAR
PRODID:-//eluceo/ical//2.0/EN
VERSION:2.0
CALSCALE:GREGORIAN
BEGIN:VEVENT
UID:hey.bayern.643603.6457713
DTSTAMP:20260422T134238Z
SUMMARY:Vital-Pass Erwachsene: Lauftreff für alle
DTSTART;TZID=Europe/Berlin:20260304T180000
DTEND;TZID=Europe/Berlin:20260304T190000
LOCATION:Eishalle Leoben\, In der Au 4\, 8700 Leoben\, Österreich
GEO:47.380400;15.093333
X-APPLE-STRUCTURED-LOCATION;VALUE=URI;X-ADDRESS=Eishalle Leoben\, In der Au
  4\, 8700 Leoben\, Österreich;X-APPLE-RADIUS=49;X-TITLE=:geo:47.380400,15
 .093333
URL;VALUE=URI:https://hey-schweiz.com/events/643603
END:VEVENT
END:VCALENDAR
