BEGIN:VCALENDAR
PRODID:-//eluceo/ical//2.0/EN
VERSION:2.0
CALSCALE:GREGORIAN
BEGIN:VEVENT
UID:hey.bayern.645098.6554703
DTSTAMP:20260422T003633Z
SUMMARY:Nikolaus am Domplatz
DTSTART;TZID=Europe/Berlin:20261206T160000
DTEND;TZID=Europe/Berlin:20261206T170000
LOCATION:Domplatz 1\, 4020 Linz\, Österreich
GEO:48.300223;14.286021
X-APPLE-STRUCTURED-LOCATION;VALUE=URI;X-ADDRESS=Domplatz 1\, 4020 Linz\, Ö
 sterreich;X-APPLE-RADIUS=49;X-TITLE=:geo:48.300223,14.286021
URL;VALUE=URI:https://hey-schweiz.com/events/645098
END:VEVENT
END:VCALENDAR
