BEGIN:VCALENDAR
PRODID:-//eluceo/ical//2.0/EN
VERSION:2.0
CALSCALE:GREGORIAN
BEGIN:VEVENT
UID:hey.bayern.647880.6059584
DTSTAMP:20260421T003203Z
SUMMARY:Freeride Monday
DTSTART;TZID=Europe/Berlin:20251222T093000
DTEND;TZID=Europe/Berlin:20251222T235959
LOCATION:Kitzsteinhornplatz 1a\, 5710 Kaprun\, Österreich
GEO:47.208894;12.689481
X-APPLE-STRUCTURED-LOCATION;VALUE=URI;X-ADDRESS=Kitzsteinhornplatz 1a\, 571
 0 Kaprun\, Österreich;X-APPLE-RADIUS=49;X-TITLE=:geo:47.208894,12.689481
URL;VALUE=URI:https://hey-schweiz.com/events/647880
END:VEVENT
END:VCALENDAR
