BEGIN:VCALENDAR
PRODID:-//eluceo/ical//2.0/EN
VERSION:2.0
CALSCALE:GREGORIAN
BEGIN:VEVENT
UID:hey.bayern.647943.6457270
DTSTAMP:20260422T140656Z
SUMMARY:Linedance - Beginner
DTSTART;TZID=Europe/Berlin:20270106T180000
DTEND;TZID=Europe/Berlin:20270106T235959
LOCATION:Hirnsdorf 233\, 8221 Feistritztal\, Österreich
URL;VALUE=URI:https://hey-schweiz.com/events/647943
END:VEVENT
END:VCALENDAR
