BEGIN:VCALENDAR
PRODID:-//eluceo/ical//2.0/EN
VERSION:2.0
CALSCALE:GREGORIAN
BEGIN:VEVENT
UID:hey.bayern.647943.6457276
DTSTAMP:20260422T140658Z
SUMMARY:Linedance - Beginner
DTSTART;TZID=Europe/Berlin:20270217T180000
DTEND;TZID=Europe/Berlin:20270217T235959
LOCATION:Hirnsdorf 233\, 8221 Feistritztal\, Österreich
URL;VALUE=URI:https://hey-schweiz.com/events/647943
END:VEVENT
END:VCALENDAR
