BEGIN:VCALENDAR
PRODID:-//eluceo/ical//2.0/EN
VERSION:2.0
CALSCALE:GREGORIAN
BEGIN:VEVENT
UID:hey.bayern.650574.6088622
DTSTAMP:20260423T144316Z
SUMMARY:Schubertiade Hohenems - Kammerchor Feldkirch · Konstantin Krimmel 
 · Mitglieder des Symphonieorchesters Vorarlberg · Johannes Hämmerle · 
 Benjamin Lack
DTSTART;TZID=Europe/Berlin:20260501T200000
DTEND;TZID=Europe/Berlin:20260501T220000
LOCATION:Marktstraße 1a\, 6845 Hohenems
GEO:47.364020;9.688380
X-APPLE-STRUCTURED-LOCATION;VALUE=URI;X-ADDRESS=Marktstraße 1a\, 6845 Hohe
 nems;X-APPLE-RADIUS=49;X-TITLE=:geo:47.364020,9.688380
URL;VALUE=URI:https://hey-schweiz.com/events/650574
END:VEVENT
END:VCALENDAR
