BEGIN:VCALENDAR
PRODID:-//eluceo/ical//2.0/EN
VERSION:2.0
CALSCALE:GREGORIAN
BEGIN:VEVENT
UID:hey.bayern.653114.6553704
DTSTAMP:20260421T042143Z
SUMMARY:Laakirchner Weihnachtsmarkt
DTSTART;TZID=Europe/Berlin:20261212T140000
DTEND;TZID=Europe/Berlin:20261212T210000
LOCATION:Pfarrhofgasse 4\, 4663 Laakirchen\, Österreich
GEO:47.982506;13.822174
X-APPLE-STRUCTURED-LOCATION;VALUE=URI;X-ADDRESS=Pfarrhofgasse 4\, 4663 Laak
 irchen\, Österreich;X-APPLE-RADIUS=49;X-TITLE=:geo:47.982506,13.822174
URL;VALUE=URI:https://hey-schweiz.com/events/653114
END:VEVENT
END:VCALENDAR
