BEGIN:VCALENDAR
PRODID:-//eluceo/ical//2.0/EN
VERSION:2.0
CALSCALE:GREGORIAN
BEGIN:VEVENT
UID:hey.bayern.656020.6137453
DTSTAMP:20260423T105257Z
SUMMARY:Eltern-Kind-Treff mit Beratung
DTSTART;TZID=Europe/Berlin:20251016T093000
DTEND;TZID=Europe/Berlin:20251016T103000
LOCATION:Familientreff\, Timmersdorfergasse 14\, 8700 Leoben\, Österreich
URL;VALUE=URI:https://hey-schweiz.com/events/656020
END:VEVENT
END:VCALENDAR
