BEGIN:VCALENDAR
PRODID:-//eluceo/ical//2.0/EN
VERSION:2.0
CALSCALE:GREGORIAN
BEGIN:VEVENT
UID:hey.bayern.656168.6556983
DTSTAMP:20260423T075234Z
SUMMARY:Spanferkelgrillen am Lorettohof
DTSTART;TZID=Europe/Berlin:20260424T190000
DTEND;TZID=Europe/Berlin:20260424T235959
LOCATION:Schattenberg 9\, 8731 Gaal\, Österreich
GEO:47.261347;14.717142
X-APPLE-STRUCTURED-LOCATION;VALUE=URI;X-ADDRESS=Schattenberg 9\, 8731 Gaal\
 , Österreich;X-APPLE-RADIUS=49;X-TITLE=:geo:47.261347,14.717142
URL;VALUE=URI:https://hey-schweiz.com/events/656168
END:VEVENT
END:VCALENDAR
