BEGIN:VCALENDAR
PRODID:-//eluceo/ical//2.0/EN
VERSION:2.0
CALSCALE:GREGORIAN
BEGIN:VEVENT
UID:hey.bayern.656358.6553708
DTSTAMP:20260423T094826Z
SUMMARY:Lange Nacht der Bibliotheken
DTSTART;TZID=Europe/Berlin:20260424T180000
DTEND;TZID=Europe/Berlin:20260424T213000
LOCATION:Schulstraße 2\, 4263 Windhaag bei Freistadt\, Österreich
GEO:48.586060;14.562583
X-APPLE-STRUCTURED-LOCATION;VALUE=URI;X-ADDRESS=Schulstraße 2\, 4263 Windh
 aag bei Freistadt\, Österreich;X-APPLE-RADIUS=49;X-TITLE=:geo:48.586060,1
 4.562583
URL;VALUE=URI:https://hey-schweiz.com/events/656358
END:VEVENT
END:VCALENDAR
