BEGIN:VCALENDAR
PRODID:-//eluceo/ical//2.0/EN
VERSION:2.0
CALSCALE:GREGORIAN
BEGIN:VEVENT
UID:hey.bayern.656889.6556158
DTSTAMP:20260422T231944Z
SUMMARY:Befreiungsfeier
DTSTART;TZID=Europe/Berlin:20260517T000000
DTEND;TZID=Europe/Berlin:20260517T235959
LOCATION:Anton-Riepl-Straße\, 4210 Gallneukirchen\, Österreich
GEO:48.349620;14.413194
X-APPLE-STRUCTURED-LOCATION;VALUE=URI;X-ADDRESS=Anton-Riepl-Straße\, 4210 
 Gallneukirchen\, Österreich;X-APPLE-RADIUS=49;X-TITLE=:geo:48.349620,14.4
 13194
URL;VALUE=URI:https://hey-schweiz.com/events/656889
END:VEVENT
END:VCALENDAR
