BEGIN:VCALENDAR
PRODID:-//eluceo/ical//2.0/EN
VERSION:2.0
CALSCALE:GREGORIAN
BEGIN:VEVENT
UID:hey.bayern.657349.6553736
DTSTAMP:20260421T091352Z
SUMMARY:Piratenball - der Maskenball 2025
DTSTART;TZID=Europe/Berlin:20270206T200000
DTEND;TZID=Europe/Berlin:20270206T235900
LOCATION:Peter-Behrens-Platz 15\, 4020 Linz\, Österreich
GEO:48.311836;14.297462
X-APPLE-STRUCTURED-LOCATION;VALUE=URI;X-ADDRESS=Peter-Behrens-Platz 15\, 40
 20 Linz\, Österreich;X-APPLE-RADIUS=49;X-TITLE=:geo:48.311836,14.297462
URL;VALUE=URI:https://hey-schweiz.com/events/657349
END:VEVENT
END:VCALENDAR
