BEGIN:VCALENDAR
PRODID:-//eluceo/ical//2.0/EN
VERSION:2.0
CALSCALE:GREGORIAN
BEGIN:VEVENT
UID:hey.bayern.657809.6557154
DTSTAMP:20260423T135710Z
SUMMARY:Öffentliche Ringvorlesung: TripleN-Talks
DTSTART;TZID=Europe/Berlin:20260429T170000
DTEND;TZID=Europe/Berlin:20260429T190000
LOCATION:online\, 8700 Leoben\, Österreich
URL;VALUE=URI:https://hey-schweiz.com/events/657809
END:VEVENT
END:VCALENDAR
