BEGIN:VCALENDAR
PRODID:-//eluceo/ical//2.0/EN
VERSION:2.0
CALSCALE:GREGORIAN
BEGIN:VEVENT
UID:hey.bayern.658238.6556181
DTSTAMP:20260423T063011Z
SUMMARY:Dachbodentheater2.0 im November
DTSTART;TZID=Europe/Berlin:20260528T200000
DTEND;TZID=Europe/Berlin:20260528T235959
LOCATION:Roseggerstraße 18\, 8600 Bruck an der Mur\, Österreich
URL;VALUE=URI:https://hey-schweiz.com/events/658238
END:VEVENT
END:VCALENDAR
