BEGIN:VCALENDAR
PRODID:-//eluceo/ical//2.0/EN
VERSION:2.0
CALSCALE:GREGORIAN
BEGIN:VEVENT
UID:hey.bayern.659196.6510226
DTSTAMP:20260420T191820Z
SUMMARY:Geführtes Waldbaden
DTSTART;TZID=Europe/Berlin:20261111T090000
DTEND;TZID=Europe/Berlin:20261111T235900
URL;VALUE=URI:https://hey-schweiz.com/events/659196
END:VEVENT
END:VCALENDAR
