BEGIN:VCALENDAR
PRODID:-//eluceo/ical//2.0/EN
VERSION:2.0
CALSCALE:GREGORIAN
BEGIN:VEVENT
UID:hey.bayern.659285.6192197
DTSTAMP:20260421T030514Z
SUMMARY:Insider Race Ski Test
DTSTART;TZID=Europe/Berlin:20260426T090000
DTEND;TZID=Europe/Berlin:20260426T235900
URL;VALUE=URI:https://hey-schweiz.com/events/659285
END:VEVENT
END:VCALENDAR
