BEGIN:VCALENDAR
PRODID:-//eluceo/ical//2.0/EN
VERSION:2.0
CALSCALE:GREGORIAN
BEGIN:VEVENT
UID:hey.bayern.659396.6548009
DTSTAMP:20260422T111751Z
SUMMARY:Gemeinsam stricken und häkeln
DTSTART;TZID=Europe/Berlin:20260425T090000
DTEND;TZID=Europe/Berlin:20260425T120000
LOCATION:Café Himml auf Erdn\, Franz Josef-Straße 2a\, 8700 Leoben\, Öst
 erreich
GEO:47.382312;15.094295
X-APPLE-STRUCTURED-LOCATION;VALUE=URI;X-ADDRESS=Café Himml auf Erdn\, Fran
 z Josef-Straße 2a\, 8700 Leoben\, Österreich;X-APPLE-RADIUS=49;X-TITLE=:
 geo:47.382312,15.094295
URL;VALUE=URI:https://hey-schweiz.com/events/659396
END:VEVENT
END:VCALENDAR
