BEGIN:VCALENDAR
PRODID:-//eluceo/ical//2.0/EN
VERSION:2.0
CALSCALE:GREGORIAN
BEGIN:VEVENT
UID:hey.bayern.660281.6200004
DTSTAMP:20260422T234916Z
SUMMARY:Geführte Wanderung zum Masonwasserfall
DTSTART;TZID=Europe/Berlin:20260704T100000
DTEND;TZID=Europe/Berlin:20260704T150000
URL;VALUE=URI:https://hey-schweiz.com/events/660281
END:VEVENT
END:VCALENDAR
