BEGIN:VCALENDAR
PRODID:-//eluceo/ical//2.0/EN
VERSION:2.0
CALSCALE:GREGORIAN
BEGIN:VEVENT
UID:hey.bayern.662386.6464559
DTSTAMP:20260421T203356Z
SUMMARY:Yoga mit Martina
DTSTART;TZID=Europe/Berlin:20260309T101500
DTEND;TZID=Europe/Berlin:20260310T101500
LOCATION:Dullhöhe 52\, 9871 Seeboden am Millstätter See\, Österreich
GEO:46.821283;13.512087
X-APPLE-STRUCTURED-LOCATION;VALUE=URI;X-ADDRESS=Dullhöhe 52\, 9871 Seebode
 n am Millstätter See\, Österreich;X-APPLE-RADIUS=49;X-TITLE=:geo:46.8212
 83,13.512087
URL;VALUE=URI:https://hey-schweiz.com/events/662386
END:VEVENT
END:VCALENDAR
