BEGIN:VCALENDAR
PRODID:-//eluceo/ical//2.0/EN
VERSION:2.0
CALSCALE:GREGORIAN
BEGIN:VEVENT
UID:hey.bayern.665789.6286002
DTSTAMP:20260421T150537Z
SUMMARY:Mindful Dynamic Flow
DTSTART;TZID=Europe/Berlin:20251125T173000
DTEND;TZID=Europe/Berlin:20251125T235900
LOCATION:6330 Kufstein\, Österreich
URL;VALUE=URI:https://hey-schweiz.com/events/665789
END:VEVENT
END:VCALENDAR
