BEGIN:VCALENDAR
PRODID:-//eluceo/ical//2.0/EN
VERSION:2.0
CALSCALE:GREGORIAN
BEGIN:VEVENT
UID:hey.bayern.665811.6286862
DTSTAMP:20260420T191842Z
SUMMARY:Paragleiter Info Stammtisch
DTSTART;TZID=Europe/Berlin:20251208T100000
DTEND;TZID=Europe/Berlin:20251208T235900
URL;VALUE=URI:https://hey-schweiz.com/events/665811
END:VEVENT
END:VCALENDAR
