BEGIN:VCALENDAR
PRODID:-//eluceo/ical//2.0/EN
VERSION:2.0
CALSCALE:GREGORIAN
BEGIN:VEVENT
UID:hey.bayern.667575.6551716
DTSTAMP:20260422T222409Z
SUMMARY:KLANGfrühling-Nicholas Ofczarek-Franui
DTSTART;TZID=Europe/Berlin:20260621T190000
DTEND;TZID=Europe/Berlin:20260622T190000
LOCATION:Rochusplatz 1\, 7461 Stadtschlaining\, Österreich
GEO:47.322480;16.280513
X-APPLE-STRUCTURED-LOCATION;VALUE=URI;X-ADDRESS=Rochusplatz 1\, 7461 Stadts
 chlaining\, Österreich;X-APPLE-RADIUS=49;X-TITLE=:geo:47.322480,16.280513
URL;VALUE=URI:https://hey-schweiz.com/events/667575
END:VEVENT
END:VCALENDAR
