BEGIN:VCALENDAR
PRODID:-//eluceo/ical//2.0/EN
VERSION:2.0
CALSCALE:GREGORIAN
BEGIN:VEVENT
UID:hey.bayern.667609.6540790
DTSTAMP:20260423T192443Z
SUMMARY:Kostenlose Freitags-Führung: Festungs-Geschichte(n)
DTSTART;TZID=Europe/Berlin:20260515T150000
DTEND;TZID=Europe/Berlin:20260515T235959
LOCATION:Festung Hohensalzburg\, Mönchsberg 34\, 5020 Salzburg\, Österrei
 ch
GEO:47.798267;13.047688
X-APPLE-STRUCTURED-LOCATION;VALUE=URI;X-ADDRESS=Festung Hohensalzburg\, Mö
 nchsberg 34\, 5020 Salzburg\, Österreich;X-APPLE-RADIUS=49;X-TITLE=:geo:4
 7.798267,13.047688
URL;VALUE=URI:https://hey-schweiz.com/events/667609
END:VEVENT
END:VCALENDAR
