BEGIN:VCALENDAR
PRODID:-//eluceo/ical//2.0/EN
VERSION:2.0
CALSCALE:GREGORIAN
BEGIN:VEVENT
UID:hey.bayern.668948.6338547
DTSTAMP:20260423T054610Z
SUMMARY:Geführter Laternenspaziergang in Stuben am Arlberg
DTSTART;TZID=Europe/Berlin:20251218T180000
DTEND;TZID=Europe/Berlin:20251218T193000
URL;VALUE=URI:https://hey-schweiz.com/events/668948
END:VEVENT
END:VCALENDAR
