BEGIN:VCALENDAR
PRODID:-//eluceo/ical//2.0/EN
VERSION:2.0
CALSCALE:GREGORIAN
BEGIN:VEVENT
UID:hey.bayern.669515.6546689
DTSTAMP:20260420T214127Z
SUMMARY:Kirchenkonzert
DTSTART;TZID=Europe/Berlin:20260815T183000
DTEND;TZID=Europe/Berlin:20260815T200000
LOCATION:Zentrum\, 5360 St. Wolfgang im Salzkammergut\, Österreich
GEO:47.737971;13.447582
X-APPLE-STRUCTURED-LOCATION;VALUE=URI;X-ADDRESS=Zentrum\, 5360 St. Wolfgang
  im Salzkammergut\, Österreich;X-APPLE-RADIUS=49;X-TITLE=:geo:47.737971,1
 3.447582
URL;VALUE=URI:https://hey-schweiz.com/events/669515
END:VEVENT
END:VCALENDAR
