BEGIN:VCALENDAR
PRODID:-//eluceo/ical//2.0/EN
VERSION:2.0
CALSCALE:GREGORIAN
BEGIN:VEVENT
UID:hey.bayern.669518.6556704
DTSTAMP:20260423T135842Z
SUMMARY:Lessacher Adventzauber
DTSTART;TZID=Europe/Berlin:20261206T140000
DTEND;TZID=Europe/Berlin:20261206T235959
LOCATION:Lessach Nr. 6\, 5575 Lessach\, Österreich
GEO:47.189193;13.807020
X-APPLE-STRUCTURED-LOCATION;VALUE=URI;X-ADDRESS=Lessach Nr. 6\, 5575 Lessac
 h\, Österreich;X-APPLE-RADIUS=49;X-TITLE=:geo:47.189193,13.807020
URL;VALUE=URI:https://hey-schweiz.com/events/669518
END:VEVENT
END:VCALENDAR
