BEGIN:VCALENDAR
PRODID:-//eluceo/ical//2.0/EN
VERSION:2.0
CALSCALE:GREGORIAN
BEGIN:VEVENT
UID:hey.bayern.669531.6345493
DTSTAMP:20260421T122050Z
SUMMARY:Martin Mühlberger: Spiegelungen – Mensch und Natur. Edelstahlkun
 st
DTSTART;TZID=Europe/Berlin:20260609T090000
DTEND;TZID=Europe/Berlin:20260609T190000
LOCATION:Roseggerstraße 20-22\, 4020 Linz\, Österreich
GEO:48.295992;14.277019
X-APPLE-STRUCTURED-LOCATION;VALUE=URI;X-ADDRESS=Roseggerstraße 20-22\, 402
 0 Linz\, Österreich;X-APPLE-RADIUS=49;X-TITLE=:geo:48.295992,14.277019
URL;VALUE=URI:https://hey-schweiz.com/events/669531
END:VEVENT
END:VCALENDAR
