BEGIN:VCALENDAR
PRODID:-//eluceo/ical//2.0/EN
VERSION:2.0
CALSCALE:GREGORIAN
BEGIN:VEVENT
UID:hey.bayern.670111.6358157
DTSTAMP:20260422T222431Z
SUMMARY:Flohmarktlädili
DTSTART;TZID=Europe/Berlin:20261117T140000
DTEND;TZID=Europe/Berlin:20261117T170000
LOCATION:Jakob-Stemer Weg 3\, 6780 Schruns\, Österreich
URL;VALUE=URI:https://hey-schweiz.com/events/670111
END:VEVENT
END:VCALENDAR
