BEGIN:VCALENDAR
PRODID:-//eluceo/ical//2.0/EN
VERSION:2.0
CALSCALE:GREGORIAN
BEGIN:VEVENT
UID:hey.bayern.670809.6418621
DTSTAMP:20260422T234332Z
SUMMARY:Direktbus Spullersee - Einsteigen\, Aussteigen\, Erleben
DTSTART;TZID=Europe/Berlin:20260704T095000
DTEND;TZID=Europe/Berlin:20260705T095000
URL;VALUE=URI:https://hey-schweiz.com/events/670809
END:VEVENT
END:VCALENDAR
