BEGIN:VCALENDAR
PRODID:-//eluceo/ical//2.0/EN
VERSION:2.0
CALSCALE:GREGORIAN
BEGIN:VEVENT
UID:hey.bayern.671021.6368312
DTSTAMP:20260421T033600Z
SUMMARY:Sonderausstellung "Uli und das Kollektiv von Natur und Frauen"
DTSTART;TZID=Europe/Berlin:20260524T100000
DTEND;TZID=Europe/Berlin:20260524T170000
LOCATION:Esplanade 10\, 4820 Bad Ischl\, Österreich
GEO:47.710209;13.620040
X-APPLE-STRUCTURED-LOCATION;VALUE=URI;X-ADDRESS=Esplanade 10\, 4820 Bad Isc
 hl\, Österreich;X-APPLE-RADIUS=49;X-TITLE=:geo:47.710209,13.620040
URL;VALUE=URI:https://hey-schweiz.com/events/671021
END:VEVENT
END:VCALENDAR
