BEGIN:VCALENDAR
PRODID:-//eluceo/ical//2.0/EN
VERSION:2.0
CALSCALE:GREGORIAN
BEGIN:VEVENT
UID:hey.bayern.671518.6374804
DTSTAMP:20260421T020912Z
SUMMARY:Schreibwerkstatt "So buchstabiert Frau ihr Leben"
DTSTART;TZID=Europe/Berlin:20260127T190000
DTEND;TZID=Europe/Berlin:20260127T235959
LOCATION:Schulgasse 73\, 5581 St. Margarethen im Lungau\, Österreich
GEO:47.079618;13.695798
X-APPLE-STRUCTURED-LOCATION;VALUE=URI;X-ADDRESS=Schulgasse 73\, 5581 St. Ma
 rgarethen im Lungau\, Österreich;X-APPLE-RADIUS=49;X-TITLE=:geo:47.079618
 ,13.695798
URL;VALUE=URI:https://hey-schweiz.com/events/671518
END:VEVENT
END:VCALENDAR
