BEGIN:VCALENDAR
PRODID:-//eluceo/ical//2.0/EN
VERSION:2.0
CALSCALE:GREGORIAN
BEGIN:VEVENT
UID:hey.bayern.671582.6375593
DTSTAMP:20260421T232623Z
SUMMARY:Öffentliche Führung
DTSTART;TZID=Europe/Berlin:20260507T150000
DTEND;TZID=Europe/Berlin:20260507T160000
LOCATION:Marktplatz 6\, 88131 Lindau (Bodensee)
GEO:47.550753;9.692688
X-APPLE-STRUCTURED-LOCATION;VALUE=URI;X-ADDRESS=Marktplatz 6\, 88131 Lindau
  (Bodensee);X-APPLE-RADIUS=49;X-TITLE=:geo:47.550753,9.692688
URL;VALUE=URI:https://hey-schweiz.com/events/671582
END:VEVENT
END:VCALENDAR
