BEGIN:VCALENDAR
PRODID:-//eluceo/ical//2.0/EN
VERSION:2.0
CALSCALE:GREGORIAN
BEGIN:VEVENT
UID:hey.bayern.673432.6391420
DTSTAMP:20260422T100808Z
SUMMARY:Sound Healing
DTSTART;TZID=Europe/Berlin:20260121T160000
DTEND;TZID=Europe/Berlin:20260121T164500
LOCATION:6555 Kappl\, Österreich
GEO:47.066400;10.390690
X-APPLE-STRUCTURED-LOCATION;VALUE=URI;X-ADDRESS=6555 Kappl\, Österreich;X-
 APPLE-RADIUS=49;X-TITLE=:geo:47.066400,10.390690
URL;VALUE=URI:https://hey-schweiz.com/events/673432
END:VEVENT
END:VCALENDAR
