BEGIN:VCALENDAR
PRODID:-//eluceo/ical//2.0/EN
VERSION:2.0
CALSCALE:GREGORIAN
BEGIN:VEVENT
UID:hey.bayern.676251.6405660
DTSTAMP:20260421T180800Z
SUMMARY:Bild und Wort: Ausstellung Thomas Bernhard
DTSTART;TZID=Europe/Berlin:20260804T100000
DTEND;TZID=Europe/Berlin:20260804T235959
LOCATION:Franz-Stelzhamer-Straße 10\, 5302 Henndorf am Wallersee\, Österr
 eich
URL;VALUE=URI:https://hey-schweiz.com/events/676251
END:VEVENT
END:VCALENDAR
